############################################################################## ############################################################################## ### ### Running command: ### ### /Library/Frameworks/R.framework/Resources/bin/R CMD build --keep-empty-dirs --no-resave-data chevreulPlot ### ############################################################################## ############################################################################## * checking for file ‘chevreulPlot/DESCRIPTION’ ... OK * preparing ‘chevreulPlot’: * checking DESCRIPTION meta-information ... OK * installing the package to build vignettes ----------------------------------- ERROR: dependency ‘chevreuldata’ is not available for package ‘chevreulPlot’ Perhaps try a variation of: install.packages('chevreuldata') * removing ‘/private/tmp/RtmpMfuBlq/Rinst168d84c917c9b/chevreulPlot’ ----------------------------------- ERROR: package installation failed