Package: chevreulPlot Version: 0.99.30 Command: /Library/Frameworks/R.framework/Resources/bin/R CMD build --keep-empty-dirs --no-resave-data chevreulPlot StartedAt: 2025-02-10 16:11:38 -0500 (Mon, 10 Feb 2025) EndedAt: 2025-02-10 16:11:39 -0500 (Mon, 10 Feb 2025) EllapsedTime: 1.1 seconds RetCode: 1 Status: ERROR PackageFile: None PackageFileSize: NA