Package: chevreulPlot Version: 0.99.30 Command: /Library/Frameworks/R.framework/Resources/bin/R CMD INSTALL chevreulPlot StartedAt: 2025-02-10 15:49:41 -0500 (Mon, 10 Feb 2025) EndedAt: 2025-02-10 15:49:42 -0500 (Mon, 10 Feb 2025) EllapsedTime: 0.3 seconds RetCode: 1 Status: ERROR