Package: chevreulPlot Version: 0.99.30 Command: /home/biocbuild/bbs-3.21-bioc/R/bin/R CMD INSTALL chevreulPlot StartedAt: 2025-02-10 16:14:34 -0500 (Mon, 10 Feb 2025) EndedAt: 2025-02-10 16:14:34 -0500 (Mon, 10 Feb 2025) EllapsedTime: 0.2 seconds RetCode: 1 Status: ERROR