Package: chevreulPlot Version: 0.99.30 Command: chmod a+r chevreulPlot -R && E:\biocbuild\bbs-3.21-bioc\R\bin\R.exe CMD build --keep-empty-dirs --no-resave-data chevreulPlot StartedAt: 2025-02-10 17:58:14 -0500 (Mon, 10 Feb 2025) EndedAt: 2025-02-10 17:58:18 -0500 (Mon, 10 Feb 2025) EllapsedTime: 4.0 seconds RetCode: 1 Status: ERROR PackageFile: None PackageFileSize: NA