Package: chevreulPlot Version: 0.99.30 Command: E:\biocbuild\bbs-3.21-bioc\R\bin\R.exe CMD INSTALL chevreulPlot StartedAt: 2025-02-10 17:15:31 -0500 (Mon, 10 Feb 2025) EndedAt: 2025-02-10 17:15:31 -0500 (Mon, 10 Feb 2025) EllapsedTime: 0.5 seconds RetCode: 1 Status: ERROR