Package: chevreulProcess Version: 0.99.25 Command: /Library/Frameworks/R.framework/Resources/bin/R CMD build --keep-empty-dirs --no-resave-data chevreulProcess StartedAt: 2025-02-09 15:52:18 -0500 (Sun, 09 Feb 2025) EndedAt: 2025-02-09 15:52:44 -0500 (Sun, 09 Feb 2025) EllapsedTime: 26.3 seconds RetCode: 1 Status: ERROR PackageFile: None PackageFileSize: NA