Package: chevreulProcess Version: 0.99.25 Command: /Library/Frameworks/R.framework/Resources/bin/R CMD build --keep-empty-dirs --no-resave-data chevreulProcess StartedAt: 2025-02-09 16:14:40 -0500 (Sun, 09 Feb 2025) EndedAt: 2025-02-09 16:16:01 -0500 (Sun, 09 Feb 2025) EllapsedTime: 81.2 seconds RetCode: 1 Status: ERROR PackageFile: None PackageFileSize: NA