Package: chevreulProcess Version: 0.99.25 Command: /Library/Frameworks/R.framework/Resources/bin/R CMD INSTALL chevreulProcess StartedAt: 2025-02-09 15:41:12 -0500 (Sun, 09 Feb 2025) EndedAt: 2025-02-09 15:42:23 -0500 (Sun, 09 Feb 2025) EllapsedTime: 70.8 seconds RetCode: 0 Status: OK