Package: chevreulProcess Version: 0.99.25 Command: /home/biocbuild/bbs-3.21-bioc/R/bin/R CMD INSTALL chevreulProcess StartedAt: 2025-02-09 15:53:18 -0500 (Sun, 09 Feb 2025) EndedAt: 2025-02-09 15:54:11 -0500 (Sun, 09 Feb 2025) EllapsedTime: 52.6 seconds RetCode: 0 Status: OK