Package: chevreulProcess Version: 0.99.25 Command: chmod a+r chevreulProcess -R && E:\biocbuild\bbs-3.21-bioc\R\bin\R.exe CMD build --keep-empty-dirs --no-resave-data chevreulProcess StartedAt: 2025-02-09 17:48:02 -0500 (Sun, 09 Feb 2025) EndedAt: 2025-02-09 17:49:37 -0500 (Sun, 09 Feb 2025) EllapsedTime: 94.6 seconds RetCode: 1 Status: ERROR PackageFile: None PackageFileSize: NA