Package: chevreulProcess Version: 0.99.25 Command: E:\biocbuild\bbs-3.21-bioc\R\bin\R.exe CMD INSTALL chevreulProcess StartedAt: 2025-02-09 16:29:13 -0500 (Sun, 09 Feb 2025) EndedAt: 2025-02-09 16:30:58 -0500 (Sun, 09 Feb 2025) EllapsedTime: 104.6 seconds RetCode: 0 Status: OK