Package: chevreulShiny Version: 0.99.26 Command: /Library/Frameworks/R.framework/Resources/bin/R CMD INSTALL chevreulShiny StartedAt: 2025-02-09 15:30:56 -0500 (Sun, 09 Feb 2025) EndedAt: 2025-02-09 15:30:56 -0500 (Sun, 09 Feb 2025) EllapsedTime: 0.1 seconds RetCode: 1 Status: ERROR