############################################################################## ############################################################################## ### ### Running command: ### ### /Library/Frameworks/R.framework/Resources/bin/R CMD build --keep-empty-dirs --no-resave-data chevreulShiny ### ############################################################################## ############################################################################## * checking for file ‘chevreulShiny/DESCRIPTION’ ... OK * preparing ‘chevreulShiny’: * checking DESCRIPTION meta-information ... OK * installing the package to build vignettes ----------------------------------- ERROR: dependency ‘chevreulPlot’ is not available for package ‘chevreulShiny’ Perhaps try a variation of: install.packages('chevreulPlot') * removing ‘/private/tmp/RtmpVytCvJ/Rinst4301140f4c3b/chevreulShiny’ ----------------------------------- ERROR: package installation failed