############################################################################## ############################################################################## ### ### Running command: ### ### /home/biocbuild/bbs-3.21-bioc/R/bin/R CMD build --keep-empty-dirs --no-resave-data chevreulShiny ### ############################################################################## ############################################################################## * checking for file ‘chevreulShiny/DESCRIPTION’ ... OK * preparing ‘chevreulShiny’: * checking DESCRIPTION meta-information ... OK * installing the package to build vignettes ----------------------------------- ERROR: dependency ‘chevreulPlot’ is not available for package ‘chevreulShiny’ Perhaps try a variation of: install.packages('chevreulPlot') * removing ‘/tmp/Rtmp8VMaFC/Rinst30a24f6a46cd31/chevreulShiny’ ----------------------------------- ERROR: package installation failed