############################################################################## ############################################################################## ### ### Running command: ### ### /home/biocbuild/bbs-3.21-bioc/R/bin/R CMD INSTALL chevreulShiny ### ############################################################################## ############################################################################## * installing to library ‘/home/biocbuild/bbs-3.21-bioc/R/site-library’ ERROR: dependency ‘chevreulPlot’ is not available for package ‘chevreulShiny’ Perhaps try a variation of: install.packages('chevreulPlot') * removing ‘/home/biocbuild/bbs-3.21-bioc/R/site-library/chevreulShiny’