Package: chevreulShiny Version: 0.99.26 Command: chmod a+r chevreulShiny -R && E:\biocbuild\bbs-3.21-bioc\R\bin\R.exe CMD build --keep-empty-dirs --no-resave-data chevreulShiny StartedAt: 2025-02-04 17:46:07 -0500 (Tue, 04 Feb 2025) EndedAt: 2025-02-04 17:46:11 -0500 (Tue, 04 Feb 2025) EllapsedTime: 3.8 seconds RetCode: 1 Status: ERROR PackageFile: None PackageFileSize: NA