Package: chevreulShiny Version: 0.99.26 Command: E:\biocbuild\bbs-3.21-bioc\R\bin\R.exe CMD INSTALL chevreulShiny StartedAt: 2025-02-04 17:03:51 -0500 (Tue, 04 Feb 2025) EndedAt: 2025-02-04 17:03:51 -0500 (Tue, 04 Feb 2025) EllapsedTime: 0.4 seconds RetCode: 1 Status: ERROR