Package: chihaya Version: 1.7.0 Command: /home/biocbuild/R/R/bin/R CMD INSTALL chihaya StartedAt: 2025-01-29 19:42:26 -0000 (Wed, 29 Jan 2025) EndedAt: 2025-01-29 19:43:18 -0000 (Wed, 29 Jan 2025) EllapsedTime: 52.0 seconds RetCode: 0 Status: OK