Package: chihaya Version: 1.7.0 Command: /home/biocbuild/bbs-3.21-bioc/R/bin/R CMD check --install=check:chihaya.install-out.txt --library=/home/biocbuild/bbs-3.21-bioc/R/site-library --timings chihaya_1.7.0.tar.gz StartedAt: 2025-02-09 20:52:42 -0500 (Sun, 09 Feb 2025) EndedAt: 2025-02-09 20:55:23 -0500 (Sun, 09 Feb 2025) EllapsedTime: 161.3 seconds RetCode: 0 Status: WARNINGS CheckDir: chihaya.Rcheck Warnings: 1