Package: chihaya Version: 1.7.0 Command: E:\biocbuild\bbs-3.21-bioc\R\bin\R.exe CMD check --no-multiarch --install=check:chihaya.install-out.txt --library=E:\biocbuild\bbs-3.21-bioc\R\library --no-vignettes --timings chihaya_1.7.0.tar.gz StartedAt: 2025-02-09 23:34:01 -0500 (Sun, 09 Feb 2025) EndedAt: 2025-02-09 23:37:47 -0500 (Sun, 09 Feb 2025) EllapsedTime: 226.5 seconds RetCode: 0 Status: OK CheckDir: chihaya.Rcheck Warnings: 0