Package: chihaya Version: 1.7.0 Command: E:\biocbuild\bbs-3.21-bioc\R\bin\R.exe CMD INSTALL chihaya StartedAt: 2025-02-12 15:53:40 -0500 (Wed, 12 Feb 2025) EndedAt: 2025-02-12 15:54:33 -0500 (Wed, 12 Feb 2025) EllapsedTime: 52.6 seconds RetCode: 0 Status: OK