Package: chimeraviz Version: 1.33.0 Maintainer: Stian Lågstad MaintainerEmail: stianlagstad at gmail.com git_url: https://git.bioconductor.org/packages/chimeraviz git_branch: devel git_last_commit: 3819c30 git_last_commit_date: 2024-10-29 10:15:57 -0500 (Tue, 29 Oct 2024)