Package: chimeraviz Version: 1.33.0 Command: rm -rf chimeraviz.buildbin-libdir && mkdir chimeraviz.buildbin-libdir && /Users/biocbuild/BBS/utils/build-universal.sh chimeraviz_1.33.0.tar.gz /Library/Frameworks/R.framework/Resources/bin/R chimeraviz.buildbin-libdir StartedAt: 2025-02-12 22:14:08 -0500 (Wed, 12 Feb 2025) EndedAt: 2025-02-12 22:14:33 -0500 (Wed, 12 Feb 2025) EllapsedTime: 24.4 seconds RetCode: 0 Status: OK PackageFile: chimeraviz_1.33.0.tgz PackageFileSize: 4.723 MiB