Package: chimeraviz Version: 1.33.0 Command: /home/biocbuild/R/R/bin/R CMD build --keep-empty-dirs --no-resave-data chimeraviz StartedAt: 2025-01-28 21:46:51 -0000 (Tue, 28 Jan 2025) EndedAt: 2025-01-28 21:52:21 -0000 (Tue, 28 Jan 2025) EllapsedTime: 330.1 seconds RetCode: 0 Status: OK PackageFile: chimeraviz_1.33.0.tar.gz PackageFileSize: 2.977 MiB