Package: chimeraviz Version: 1.33.0 Command: rm -rf chimeraviz.buildbin-libdir && mkdir chimeraviz.buildbin-libdir && /Users/biocbuild/BBS/utils/build-universal.sh chimeraviz_1.33.0.tar.gz /Library/Frameworks/R.framework/Resources/bin/R chimeraviz.buildbin-libdir StartedAt: 2025-02-10 00:46:14 -0500 (Mon, 10 Feb 2025) EndedAt: 2025-02-10 00:47:34 -0500 (Mon, 10 Feb 2025) EllapsedTime: 79.6 seconds RetCode: 0 Status: OK PackageFile: chimeraviz_1.33.0.tgz PackageFileSize: 4.718 MiB