Package: chimeraviz Version: 1.33.0 Command: /Library/Frameworks/R.framework/Resources/bin/R CMD check --install=check:chimeraviz.install-out.txt --library=/Library/Frameworks/R.framework/Resources/library --no-vignettes --timings chimeraviz_1.33.0.tar.gz StartedAt: 2025-02-09 19:42:25 -0500 (Sun, 09 Feb 2025) EndedAt: 2025-02-09 19:54:27 -0500 (Sun, 09 Feb 2025) EllapsedTime: 722.2 seconds RetCode: 0 Status: OK CheckDir: chimeraviz.Rcheck Warnings: 0