Package: chimeraviz Version: 1.33.0 Command: /Library/Frameworks/R.framework/Resources/bin/R CMD INSTALL chimeraviz StartedAt: 2025-02-09 15:28:29 -0500 (Sun, 09 Feb 2025) EndedAt: 2025-02-09 15:29:45 -0500 (Sun, 09 Feb 2025) EllapsedTime: 76.6 seconds RetCode: 0 Status: OK