Package: chimeraviz Version: 1.33.0 Command: /home/biocbuild/bbs-3.21-bioc/R/bin/R CMD check --install=check:chimeraviz.install-out.txt --library=/home/biocbuild/bbs-3.21-bioc/R/site-library --timings chimeraviz_1.33.0.tar.gz StartedAt: 2025-02-09 20:52:56 -0500 (Sun, 09 Feb 2025) EndedAt: 2025-02-09 21:05:49 -0500 (Sun, 09 Feb 2025) EllapsedTime: 773.2 seconds RetCode: 0 Status: OK CheckDir: chimeraviz.Rcheck Warnings: 0