Package: chimeraviz Version: 1.33.0 Command: /home/biocbuild/bbs-3.21-bioc/R/bin/R CMD INSTALL chimeraviz StartedAt: 2025-02-09 15:46:44 -0500 (Sun, 09 Feb 2025) EndedAt: 2025-02-09 15:47:42 -0500 (Sun, 09 Feb 2025) EllapsedTime: 57.4 seconds RetCode: 0 Status: OK