Package: chimeraviz Version: 1.33.0 Command: E:\biocbuild\bbs-3.21-bioc\R\bin\R.exe CMD INSTALL chimeraviz StartedAt: 2025-02-09 16:44:21 -0500 (Sun, 09 Feb 2025) EndedAt: 2025-02-09 16:45:59 -0500 (Sun, 09 Feb 2025) EllapsedTime: 98.6 seconds RetCode: 0 Status: OK