Package: chipseq Version: 1.57.0 Command: /Library/Frameworks/R.framework/Resources/bin/R CMD build --keep-empty-dirs --no-resave-data chipseq StartedAt: 2025-02-09 16:15:47 -0500 (Sun, 09 Feb 2025) EndedAt: 2025-02-09 16:18:38 -0500 (Sun, 09 Feb 2025) EllapsedTime: 171.5 seconds RetCode: 0 Status: OK PackageFile: chipseq_1.57.0.tar.gz PackageFileSize: 2.42 MiB