Package: chipseq Version: 1.57.0 Command: /Library/Frameworks/R.framework/Resources/bin/R CMD check --install=check:chipseq.install-out.txt --library=/Library/Frameworks/R.framework/Resources/library --no-vignettes --timings chipseq_1.57.0.tar.gz StartedAt: 2025-02-12 19:33:06 -0500 (Wed, 12 Feb 2025) EndedAt: 2025-02-12 19:37:07 -0500 (Wed, 12 Feb 2025) EllapsedTime: 241.1 seconds RetCode: 0 Status: WARNINGS CheckDir: chipseq.Rcheck Warnings: 2