Package: chipseq Version: 1.57.0 Command: /home/biocbuild/bbs-3.21-bioc/R/bin/R CMD INSTALL chipseq StartedAt: 2025-02-09 15:54:35 -0500 (Sun, 09 Feb 2025) EndedAt: 2025-02-09 15:55:04 -0500 (Sun, 09 Feb 2025) EllapsedTime: 29.5 seconds RetCode: 0 Status: OK