Package: chromDraw Version: 2.37.0 Command: /Library/Frameworks/R.framework/Resources/bin/R CMD check --install=check:chromDraw.install-out.txt --library=/Library/Frameworks/R.framework/Resources/library --no-vignettes --timings chromDraw_2.37.0.tar.gz StartedAt: 2025-02-09 18:30:36 -0500 (Sun, 09 Feb 2025) EndedAt: 2025-02-09 18:31:04 -0500 (Sun, 09 Feb 2025) EllapsedTime: 28.3 seconds RetCode: 0 Status: WARNINGS CheckDir: chromDraw.Rcheck Warnings: 3