Package: chromDraw Version: 2.37.0 Command: /home/biocbuild/R/R/bin/R CMD build --keep-empty-dirs --no-resave-data chromDraw StartedAt: 2025-01-28 21:49:49 -0000 (Tue, 28 Jan 2025) EndedAt: 2025-01-28 21:51:08 -0000 (Tue, 28 Jan 2025) EllapsedTime: 79.0 seconds RetCode: 0 Status: OK PackageFile: chromDraw_2.37.0.tar.gz PackageFileSize: 2.221 MiB