Package: chromDraw Version: 2.37.0 Command: /home/biocbuild/R/R/bin/R CMD check --install=check:chromDraw.install-out.txt --library=/home/biocbuild/R/R/site-library --no-vignettes --timings chromDraw_2.37.0.tar.gz StartedAt: 2025-01-28 09:09:34 -0000 (Tue, 28 Jan 2025) EndedAt: 2025-01-28 09:10:58 -0000 (Tue, 28 Jan 2025) EllapsedTime: 84.1 seconds RetCode: 0 Status: WARNINGS CheckDir: chromDraw.Rcheck Warnings: 3