Package: chromDraw Version: 2.37.0 Command: /home/biocbuild/R/R/bin/R CMD INSTALL chromDraw StartedAt: 2025-01-29 19:37:49 -0000 (Wed, 29 Jan 2025) EndedAt: 2025-01-29 19:38:56 -0000 (Wed, 29 Jan 2025) EllapsedTime: 66.7 seconds RetCode: 0 Status: OK