Package: chromDraw Version: 2.37.0 Command: /Library/Frameworks/R.framework/Resources/bin/R CMD build --keep-empty-dirs --no-resave-data chromDraw StartedAt: 2025-02-09 16:16:12 -0500 (Sun, 09 Feb 2025) EndedAt: 2025-02-09 16:17:23 -0500 (Sun, 09 Feb 2025) EllapsedTime: 70.9 seconds RetCode: 0 Status: OK PackageFile: chromDraw_2.37.0.tar.gz PackageFileSize: 2.227 MiB