Package: chromDraw Version: 2.37.0 Command: /Library/Frameworks/R.framework/Resources/bin/R CMD INSTALL chromDraw StartedAt: 2025-02-09 15:09:18 -0500 (Sun, 09 Feb 2025) EndedAt: 2025-02-09 15:10:14 -0500 (Sun, 09 Feb 2025) EllapsedTime: 56.3 seconds RetCode: 0 Status: OK