Package: chromDraw Version: 2.37.0 Command: /home/biocbuild/bbs-3.21-bioc/R/bin/R CMD check --install=check:chromDraw.install-out.txt --library=/home/biocbuild/bbs-3.21-bioc/R/site-library --timings chromDraw_2.37.0.tar.gz StartedAt: 2025-02-09 20:54:24 -0500 (Sun, 09 Feb 2025) EndedAt: 2025-02-09 20:55:45 -0500 (Sun, 09 Feb 2025) EllapsedTime: 81.1 seconds RetCode: 0 Status: WARNINGS CheckDir: chromDraw.Rcheck Warnings: 3