Package: chromPlot Version: 1.35.0 Command: /Library/Frameworks/R.framework/Resources/bin/R CMD check --install=check:chromPlot.install-out.txt --library=/Library/Frameworks/R.framework/Resources/library --no-vignettes --timings chromPlot_1.35.0.tar.gz StartedAt: 2025-02-12 18:32:33 -0500 (Wed, 12 Feb 2025) EndedAt: 2025-02-12 18:33:16 -0500 (Wed, 12 Feb 2025) EllapsedTime: 43.5 seconds RetCode: 0 Status: OK CheckDir: chromPlot.Rcheck Warnings: 0