Package: chromPlot Version: 1.35.0 Command: /Library/Frameworks/R.framework/Resources/bin/R CMD INSTALL chromPlot StartedAt: 2025-02-12 15:19:43 -0500 (Wed, 12 Feb 2025) EndedAt: 2025-02-12 15:20:06 -0500 (Wed, 12 Feb 2025) EllapsedTime: 23.1 seconds RetCode: 0 Status: OK