Package: chromPlot Version: 1.35.0 Command: /home/biocbuild/bbs-3.21-bioc/R/bin/R CMD check --install=check:chromPlot.install-out.txt --library=/home/biocbuild/bbs-3.21-bioc/R/site-library --timings chromPlot_1.35.0.tar.gz StartedAt: 2025-02-09 20:54:50 -0500 (Sun, 09 Feb 2025) EndedAt: 2025-02-09 20:57:04 -0500 (Sun, 09 Feb 2025) EllapsedTime: 134.2 seconds RetCode: 0 Status: OK CheckDir: chromPlot.Rcheck Warnings: 0