Package: chromPlot Version: 1.35.0 Command: E:\biocbuild\bbs-3.21-bioc\R\bin\R.exe CMD check --no-multiarch --install=check:chromPlot.install-out.txt --library=E:\biocbuild\bbs-3.21-bioc\R\library --no-vignettes --timings chromPlot_1.35.0.tar.gz StartedAt: 2025-02-12 23:46:13 -0500 (Wed, 12 Feb 2025) EndedAt: 2025-02-12 23:48:30 -0500 (Wed, 12 Feb 2025) EllapsedTime: 136.5 seconds RetCode: 0 Status: WARNINGS CheckDir: chromPlot.Rcheck Warnings: 1