Package: chromVAR Version: 1.29.0 Command: /Library/Frameworks/R.framework/Resources/bin/R CMD build --keep-empty-dirs --no-resave-data chromVAR StartedAt: 2025-02-09 15:53:56 -0500 (Sun, 09 Feb 2025) EndedAt: 2025-02-09 15:54:54 -0500 (Sun, 09 Feb 2025) EllapsedTime: 58.7 seconds RetCode: 0 Status: OK PackageFile: chromVAR_1.29.0.tar.gz PackageFileSize: 501.5 KiB