Package: chromVAR Version: 1.29.0 Command: /Library/Frameworks/R.framework/Resources/bin/R CMD check --install=check:chromVAR.install-out.txt --library=/Library/Frameworks/R.framework/Resources/library --no-vignettes --timings chromVAR_1.29.0.tar.gz StartedAt: 2025-02-04 18:32:27 -0500 (Tue, 04 Feb 2025) EndedAt: 2025-02-04 18:34:58 -0500 (Tue, 04 Feb 2025) EllapsedTime: 151.7 seconds RetCode: 0 Status: OK CheckDir: chromVAR.Rcheck Warnings: 0