Package: chromVAR Version: 1.29.0 Command: /Library/Frameworks/R.framework/Resources/bin/R CMD INSTALL chromVAR StartedAt: 2025-02-09 15:16:01 -0500 (Sun, 09 Feb 2025) EndedAt: 2025-02-09 15:16:26 -0500 (Sun, 09 Feb 2025) EllapsedTime: 24.9 seconds RetCode: 0 Status: OK