Package: chromVAR Version: 1.29.0 Command: /home/biocbuild/R/R/bin/R CMD build --keep-empty-dirs --no-resave-data chromVAR StartedAt: 2025-01-28 21:50:50 -0000 (Tue, 28 Jan 2025) EndedAt: 2025-01-28 21:55:24 -0000 (Tue, 28 Jan 2025) EllapsedTime: 273.4 seconds RetCode: 0 Status: OK PackageFile: chromVAR_1.29.0.tar.gz PackageFileSize: 440.5 KiB