Package: chromVAR Version: 1.29.0 Command: /home/biocbuild/R/R/bin/R CMD check --install=check:chromVAR.install-out.txt --library=/home/biocbuild/R/R/site-library --no-vignettes --timings chromVAR_1.29.0.tar.gz StartedAt: 2025-01-28 09:09:54 -0000 (Tue, 28 Jan 2025) EndedAt: 2025-01-28 09:18:47 -0000 (Tue, 28 Jan 2025) EllapsedTime: 532.4 seconds RetCode: 0 Status: OK CheckDir: chromVAR.Rcheck Warnings: 0